BEGIN:VCALENDAR
VERSION:2.0
PRODID:-//ChamberMaster//Event Calendar 2.0//EN
METHOD:PUBLISH
X-PUBLISHED-TTL:P3D
REFRESH-INTERVAL:P3D
CALSCALE:GREGORIAN
BEGIN:VEVENT
DTSTART:20200324T120000Z
DTEND:20200324T130000Z
X-MICROSOFT-CDO-ALLDAYEVENT:FALSE
SUMMARY:Wyoming Business Leaders
DESCRIPTION:Wyoming Business Leaders\n\nMeets the 4th Tuesday of every month
X-ALT-DESC;FMTTYPE=text/html:<span style="font-size:16px\;"><strong><span style="font-size:18px\;">Wyoming Business Leaders</span></strong><br />\nMeets the 4th Tuesday of every month</span>
LOCATION:Marge's Donut Den 1751 28th St. SW Wyoming
UID:e.269.11393
SEQUENCE:3
DTSTAMP:20260420T143202Z
URL:https://business.southkent.org/events/details/wyoming-business-leaders-03-31-2020-11393
END:VEVENT

END:VCALENDAR
