BEGIN:VCALENDAR
VERSION:2.0
PRODID:-//ChamberMaster//Event Calendar 2.0//EN
METHOD:PUBLISH
X-PUBLISHED-TTL:P3D
REFRESH-INTERVAL:P3D
CALSCALE:GREGORIAN
BEGIN:VEVENT
DTSTART:20260611T150000Z
DTEND:20260611T173000Z
X-MICROSOFT-CDO-ALLDAYEVENT:FALSE
SUMMARY:West Michigan M365 User Group 2026 Q2 Meetup
DESCRIPTION:Date: Thursday\, June 11\, 2026\n\nTime: 11:00am   1:30pm (includes Q&A time)\n\nCost: Free + Lunch included\n\nLocation: In Person @ Grand Rapids Chamber of Commerce\n\nAddress: 250 Monroe Ave NW\, Grand Rapids\, MI 49503\n\n \n\n\n\nRegister Today\n\n\n\n \n\n\nThe Q2 West Michigan M365 User Group Meetup continues the momentum from Microsoft 365 Community Day. Whether you joined us at Community Day or couldn't attend\, this meetup helps you catch up\, go deeper\, and stay current   building on the tools\, themes\, and real-world questions that emerged.\n\nAlongside networking over lunch\, we'll dive into Practical Copilot and Personal Productivity.\n\n\n	 Building a useful Copilot Studio agent   from idea to deployment\n	Copilot Cowork & Researcher multi-model features (what's new and when they matter)\n	Boosting productivity with Microsoft 365 using tools you already have\n	A strong focus on foundations: email\, tasks\, notes\, focus\, plus just enough Copilot to work smarter without adding complexity\n\n\nFeatured presenters are\, Ben Rupp (InsITe) and Mike Bodell (Bulb Digital)\n\nFor this Q2 Meetup:\n\n\n	Lunch is sponsored by Bulb Digital\n	Rental space is sponsored by InsITe\n\n\nAs always\, expect practical takeaways\, honest conversations\, and ideas you can put to work right away plus\, time to connect with others across West Michigan who are navigating the same modern work challenge.\n\nReserve your spot now and be part of the action!
X-ALT-DESC;FMTTYPE=text/html:<div>\n<div style="background:transparent\; border:0px\; padding:0px">\n<p><span style="font-size:14px"><strong>Date:</strong><span style="background-color:transparent">&nbsp\;Thursday\, June 11\, 2026</span><br />\n<strong>Time:</strong><span style="background-color:transparent">&nbsp\;11:00am &ndash\; 1:30pm (includes Q&amp\;A time)</span><br />\n<strong>Cost:</strong><span style="background-color:transparent">&nbsp\;Free + Lunch included</span><br />\n<strong>Location:</strong><span style="background-color:transparent\; color:rgb(255\, 102\, 0)"><strong>&nbsp\;In Person @ Grand Rapids Chamber of Commerce</strong></span><br />\n<strong>Address:&nbsp\;</strong><span style="background-color:transparent">250 Monroe Ave NW\, Grand Rapids\, MI 49503</span></span><br />\n&nbsp\;</p>\n</div>\n</div>\n\n<div><a class="et_pb_button et_pb_button_2 et_pb_bg_layout_light" href="https://www.meetup.com/west-michigan-microsoft-365-meetup-group/events/313851183/?eventOrigin=group_events_list&amp\;utm_medium=referral&amp\;utm_campaign=event_card_savedevents_share_modal&amp\;utm_source=link&amp\;utm_version=v2&amp\;member_id=427424282" style="box-sizing: border-box\; margin: 0px\; border-style: solid\; border-color: rgb(128\, 129\, 132)\; border-image: initial\; outline: 0px\; font-size: 16px\; text-size-adjust: 100%\; vertical-align: baseline\; background: 50% center / cover no-repeat rgb(233\, 116\, 63)\; text-decoration: none\; font-weight: bold\; border-radius: 6px\; transition: 300ms\; position: relative\; display: inline-block\; padding: 0.3em 1em !important\; border-width: 2px !important\; color: rgb(255\, 255\, 255) !important\; line-height: 1.7em !important\;" target="_blank">Register Today</a></div>\n\n<div>\n<div style="background:transparent\; border:0px\; padding:0px">\n<p>&nbsp\;</p>\n\n<div style="background:transparent\; border:0px\; padding:0px">\n<p>The Q2 West Michigan M365 User Group Meetup continues the momentum from Microsoft 365 Community Day. Whether you joined us at Community Day or couldn&rsquo\;t attend\, this meetup helps you catch up\, go deeper\, and stay current &ndash\; building on the tools\, themes\, and real-world questions that emerged.</p>\n\n<p>Alongside networking over lunch\, we&rsquo\;ll dive into&nbsp\;<strong>Practical Copilot</strong>&nbsp\;and&nbsp\;<strong>Personal Productivity</strong>.</p>\n\n<ul style="margin-left: 40px\;">\n	<li>&nbsp\;Building a useful Copilot Studio agent &mdash\; from idea to deployment</li>\n	<li>Copilot Cowork &amp\; Researcher multi-model features (what&rsquo\;s new and when they matter)</li>\n	<li>Boosting productivity with Microsoft 365 using tools you already have</li>\n	<li>A strong focus on foundations: email\, tasks\, notes\, focus\, plus just enough Copilot to work smarter without adding complexity</li>\n</ul>\n\n<p>Featured presenters are\,&nbsp\;<strong>Ben Rupp</strong>&nbsp\;(InsITe) and&nbsp\;<strong>Mike Bodell</strong>&nbsp\;(Bulb Digital)</p>\n\n<p>For this Q2 Meetup:</p>\n\n<ul style="margin-left: 40px\;">\n	<li>Lunch is sponsored by&nbsp\;<strong>Bulb Digital</strong></li>\n	<li><span style="background-color:transparent">Rental </span><span style="background-color:transparent">space is sponsored by&nbsp\;</span><strong>InsITe</strong></li>\n</ul>\n\n<p>As always\, expect practical takeaways\, honest conversations\, and ideas you can put to work right away plus\, time to connect with others across West Michigan who are navigating the same modern work challenge.</p>\n\n<p><strong>Reserve your spot now and be part of the action!</strong></p>\n</div>\n</div>\n</div>\n
LOCATION:
UID:e.269.14022
SEQUENCE:3
DTSTAMP:20260424T042419Z
URL:https://business.southkent.org/events/details/west-michigan-m365-user-group-2026-q2-meetup-14022
END:VEVENT

END:VCALENDAR
