BEGIN:VCALENDAR
VERSION:2.0
PRODID:-//ChamberMaster//Event Calendar 2.0//EN
METHOD:PUBLISH
X-PUBLISHED-TTL:P3D
REFRESH-INTERVAL:P3D
CALSCALE:GREGORIAN
BEGIN:VEVENT
DTSTART:20250424T203000Z
DTEND:20250424T220000Z
X-MICROSOFT-CDO-ALLDAYEVENT:FALSE
SUMMARY:Thirsty Thursday
DESCRIPTION:Join the South Kent Chamber of Commerce Thirsty Thursday \n\n \n\n	These after hours allow those who like to relax at the end of the day with some good professional company and a beverage of their choice.\n	Join a group of professionals looking to network at the end of the day\, so they can relax and meet old and new friends after a hard day at work.
X-ALT-DESC;FMTTYPE=text/html:<span style="color:#0000CD\;"><span style="font-size:18px\;">Join the South Kent Chamber of Commerce Thirsty Thursday&nbsp\;</span></span><br />\n&nbsp\;\n<ul style="padding: 0px\; margin: 0px 0px 20px 20px\; list-style-position: initial\; list-style-image: initial\; box-sizing: border-box\; color: rgb(97\, 93\, 88)\; font-family: Mulish\, sans-serif\; font-size: 18px\; background-color: rgb(255\, 255\, 255)\;">\n	<li style="padding: 0px\; margin: 0px\; box-sizing: border-box\;">These after hours allow those who like to relax at the end of the day with some good professional company and a beverage of their choice.</li>\n	<li style="padding: 0px\; margin: 0px\; box-sizing: border-box\;">Join a group of professionals looking to network at the end of the day\, so they can relax and meet old and new friends after a hard day at work.</li>\n</ul>\n
LOCATION:Body Sculpt Better Body Bar 3099 Broadmoor Ave SE Kentwood\, MI 49512
UID:e.269.13137
SEQUENCE:3
DTSTAMP:20260421T120007Z
URL:https://business.southkent.org/events/details/thirsty-thursday-13137
END:VEVENT

END:VCALENDAR
