BEGIN:VCALENDAR
VERSION:2.0
PRODID:-//ChamberMaster//Event Calendar 2.0//EN
METHOD:PUBLISH
X-PUBLISHED-TTL:P3D
REFRESH-INTERVAL:P3D
CALSCALE:GREGORIAN
BEGIN:VEVENT
DTSTART:20260425T170000Z
DTEND:20260425T190000Z
X-MICROSOFT-CDO-ALLDAYEVENT:FALSE
SUMMARY:Spring Work Day at Family Network of Wyoming
DESCRIPTION:Join us for an afternoon of community and cultivation!\n\nGarden Tasks: \n\nOutline beds\, create pathways\, and prep garden for planting\n\nBuild simple trellis and arbors\n\nPlant our first seeds
X-ALT-DESC;FMTTYPE=text/html:Join us for an afternoon of community and cultivation!<br />\nGarden Tasks:&nbsp\;<br />\nOutline beds\, create pathways\, and prep garden for planting<br />\nBuild simple trellis and arbors<br />\nPlant our first seeds<br />\n&nbsp\;
LOCATION:
UID:e.269.14023
SEQUENCE:3
DTSTAMP:20260423T122724Z
URL:https://business.southkent.org/events/details/spring-work-day-at-family-network-of-wyoming-14023
END:VEVENT

END:VCALENDAR
