BEGIN:VCALENDAR
VERSION:2.0
PRODID:-//ChamberMaster//Event Calendar 2.0//EN
METHOD:PUBLISH
X-PUBLISHED-TTL:P3D
REFRESH-INTERVAL:P3D
CALSCALE:GREGORIAN
BEGIN:VEVENT
DTSTART:20191119T220000Z
DTEND:20191119T230000Z
X-MICROSOFT-CDO-ALLDAYEVENT:FALSE
SUMMARY:Ribbon Cutting & Grand Opening for Kellogg Community CU
DESCRIPTION:Grand Opening & Ribbon Cutting \n\nAppetizers\, wine & beer will be served
X-ALT-DESC;FMTTYPE=text/html:<br />\n<span style="font-size:18px\;"><strong>Grand Opening &amp\; Ribbon Cutting&nbsp\;<br />\nAppetizers\, wine &amp\; beer will be served</strong></span>
LOCATION:Kellogg Community Credit Union 2270 Gezon Parkway Wyoming\, 49519
UID:e.269.11774
SEQUENCE:3
DTSTAMP:20260420T155741Z
URL:https://business.southkent.org/events/details/ribbon-cutting-grand-opening-for-kellogg-community-cu-11774
END:VEVENT

END:VCALENDAR
