BEGIN:VCALENDAR
VERSION:2.0
PRODID:-//ChamberMaster//Event Calendar 2.0//EN
METHOD:PUBLISH
X-PUBLISHED-TTL:P3D
REFRESH-INTERVAL:P3D
CALSCALE:GREGORIAN
BEGIN:VEVENT
DTSTART:20260422T160000Z
DTEND:20260422T164500Z
X-MICROSOFT-CDO-ALLDAYEVENT:FALSE
SUMMARY:Microsoft AI Bootcamp Webinar
DESCRIPTION:Unlock the Power of AI and Transform Your\n\nWorkflow in Just 6 Weeks!\n\n\n\nDate: Begins Wednesday\, April 22\, 2026\n\nTime: 12:00pm   12:45pm (includes Q&A time)\n\nLocation: 6 Interactive Live Online Sessions\n\nCost: $186 BUT use our South Kent Chamber members discount code "thinkcopilot" for a price of $30\n\n\n\n*NOTE: Most of the features demonstrated require an M365 Copilot license to try yourself\, but you'll still gain plenty of value by observing how Copilot is used.\n\n \n\n\n\nRegister Today\n\n\n\n\n\n\nAre you struggling to keep up with the rapid changes in workplace technology and wondering how AI can actually make your daily work easier? The Microsoft AI Bootcamp is designed to help you bridge the gap between potential and practical use   giving you the skills and confidence to leverage AI tools across Microsoft 365 for real results.\n\n \n\n\n\nOver six weekly sessions\, you'll explore practical techniques for using AI across Microsoft 365   from smarter prompting and web data integration\, to leveraging AI in Word\, Excel\, OneDrive\, Teams\, Outlook\, PowerPoint\, Forms\, and more. Each Wednesday\, we'll guide you through real-world scenarios\, interactive exercises\, and app demonstrations that make AI accessible and actionable for every role. Stick around for the live Q&A at the end of each session to get personalized support and real answers to your questions.\n\n \n\n\nWhat You'll Learn:\n\n\n	How to use AI-powered prompts and web data\n	Integrating AI with Word\, Excel\, OneDrive\, and Teams\n	Enhancing meetings\, chats\, and collaboration with AI\n	Streamlining communication in Outlook\, PowerPoint\, and Forms\n\n\nWhether you're new to AI or ready to take your skills to the next level\, this bootcamp will equip you to work smarter\, faster\, and more creatively.
X-ALT-DESC;FMTTYPE=text/html:<div>\n<div style="background:transparent\; border:0px\; padding:0px">\n<h1 style="text-align:center"><span style="color:rgb(51\, 102\, 255)">Unlock the Power of AI and Transform Your<br />\nWorkflow in Just 6 Weeks!</span></h1>\n\n<p><br />\n<strong>Date:</strong>&nbsp\;Begins Wednesday\, April 22\, 2026<br />\n<strong>Time:</strong>&nbsp\;12:00pm &ndash\; 12:45pm (includes Q&amp\;A time)<br />\n<strong>Location:</strong><span style="color:rgb(255\, 102\, 0)"><strong>&nbsp\;6 Interactive Live Online Sessions</strong></span><br />\n<strong>Cost:</strong>&nbsp\;$186&nbsp\;BUT use our South Kent Chamber members discount code &quot\;thinkcopilot&quot\; for a price of $30</p>\n\n<p><br />\n*<strong>NOTE:&nbsp\;</strong>Most of the features demonstrated require an M365 Copilot license to try yourself\, but you&rsquo\;ll still gain plenty of value by observing how Copilot is used.<br />\n&nbsp\;</p>\n</div>\n</div>\n\n<div><a class="et_pb_button et_pb_button_1 et_pb_bg_layout_light" href="https://www.eventbrite.com/e/microsoft-ai-bootcamp-aprmay-2026-registration-1983610841424?aff=oddtdtcreator" style="box-sizing: border-box\; margin: 0px\; border-style: solid\; border-color: rgb(128\, 129\, 132)\; border-image: initial\; outline: 0px\; font-size: 16px\; text-size-adjust: 100%\; vertical-align: baseline\; background: 50% center / cover no-repeat rgb(233\, 116\, 63)\; text-decoration: none\; font-weight: bold\; border-radius: 6px\; transition: 300ms\; position: relative\; display: inline-block\; padding: 0.3em 1em !important\; border-width: 2px !important\; color: rgb(255\, 255\, 255) !important\; line-height: 1.7em !important\;" target="_blank">Register Today</a></div>\n\n<div>\n<div style="background:transparent\; border:0px\; padding:0px">\n<div style="background:transparent\; border:0px\; padding:0px">\n<p><br />\nAre you struggling to keep up with the rapid changes in workplace technology and wondering how AI can actually make your daily work easier? The Microsoft AI Bootcamp is designed to help you bridge the gap between potential and practical use &mdash\; giving you the skills and confidence to leverage AI tools across Microsoft 365 for real results.<br />\n&nbsp\;</p>\n</div>\n\n<div style="background:transparent\; border:0px\; padding:0px">\n<p>Over six weekly sessions\, you&rsquo\;ll explore practical techniques for using AI across Microsoft 365 &ndash\; from smarter prompting and web data integration\, to leveraging AI in Word\, Excel\, OneDrive\, Teams\, Outlook\, PowerPoint\, Forms\, and more. Each Wednesday\, we&rsquo\;ll guide you through real-world scenarios\, interactive exercises\, and app demonstrations that make AI accessible and actionable for every role.&nbsp\;Stick around for the live Q&amp\;A at the end of each session to get personalized support and real answers to your questions.<br />\n&nbsp\;</p>\n</div>\n\n<div style="background:transparent\; border:0px\; padding:0px">What You&rsquo\;ll Learn:</div>\n\n<ul>\n	<li>How to use AI-powered prompts and web data</li>\n	<li>Integrating AI with Word\, Excel\, OneDrive\, and Teams</li>\n	<li>Enhancing meetings\, chats\, and collaboration with AI</li>\n	<li>Streamlining communication in Outlook\, PowerPoint\, and Forms</li>\n</ul>\n\n<div style="background:transparent\; border:0px\; padding:0px">Whether you&rsquo\;re new to AI or ready to take your skills to the next level\, this bootcamp will equip you to work smarter\, faster\, and more creatively.</div>\n</div>\n</div>\n
LOCATION:
UID:e.269.13956
SEQUENCE:3
DTSTAMP:20260421T022945Z
URL:https://business.southkent.org/events/details/microsoft-ai-bootcamp-webinar-13956
END:VEVENT

END:VCALENDAR
