BEGIN:VCALENDAR
VERSION:2.0
PRODID:-//ChamberMaster//Event Calendar 2.0//EN
METHOD:PUBLISH
X-PUBLISHED-TTL:P3D
REFRESH-INTERVAL:P3D
CALSCALE:GREGORIAN
BEGIN:VEVENT
DTSTART:20161114T130000Z
DTEND:20161114T140000Z
X-MICROSOFT-CDO-ALLDAYEVENT:FALSE
SUMMARY:Government Matters @ City Hall - with Elected Officials
DESCRIPTION:The Chamber's Monthly Meeting with Government Officials\n\nTelevised on Cable Channel 25 WKTV \n\n \n\nBring your Top Issues and Interact with Policy Makers from\n\n\n	City of Kentwood\n	City of Wyoming\n	County of Kent\n	Michigan House of Representatives\n	Michigan Senate
X-ALT-DESC;FMTTYPE=text/html:<div align="center"><font color="#800000" size="4"><strong>The Chamber&rsquo\;s Monthly Meeting with Government Officials</strong></font></div>\n\n<div align="center"><font size="2">Televised on Cable Channel 25 <a href="http://www.wktv.org">WKTV</a> </font></div>\n\n<div align="center">&nbsp\;</div>\n\n<div align="center"><font size="3">Bring <u>your</u> Top Issues and Interact with Policy Makers from</font></div>\n\n<ul>\n	<li><font size="3">City of Kentwood</font></li>\n	<li><font size="3">City of Wyoming</font></li>\n	<li><font size="3">County of Kent</font></li>\n	<li><font size="3">Michigan House of Representatives</font></li>\n	<li><font size="3">Michigan Senate</font></li>\n</ul>\n<font size="3">&#8203\;</font>
LOCATION:Kentwood City Hall 4900 Breton Rd SE (1/2 mi. South of 44th St\; 1/2 mi North of 54th St.) in April\, May\, June\, October\, November\, & December Wyoming City Hall 1155 28th St SW Corner of 28th and Michael in January\, February\, March\, July\, August\, & September
UID:e.269.1066
SEQUENCE:3
DTSTAMP:20260420T235650Z
URL:https://business.southkent.org/events/details/government-matters-city-hall-with-elected-officials-11-14-2016-1066
END:VEVENT

END:VCALENDAR
