BEGIN:VCALENDAR
VERSION:2.0
PRODID:-//ChamberMaster//Event Calendar 2.0//EN
METHOD:PUBLISH
X-PUBLISHED-TTL:P3D
REFRESH-INTERVAL:P3D
CALSCALE:GREGORIAN
BEGIN:VEVENT
DTSTART:20260513T120000Z
DTEND:20260513T130000Z
X-MICROSOFT-CDO-ALLDAYEVENT:FALSE
SUMMARY:Connect Over Coffee
DESCRIPTION:Connect Over Coffee at Disability Advocates\n\n\n\nJoin us for our monthly "Connect Over Coffee" networking event\, where professionals from diverse fields come together to share ideas\, forge new connections\, and explore collaborative opportunities. This casual yet impactful gathering provides the perfect setting to engage in meaningful conversations over a cup of coffee\, expand your network\, and gain fresh perspectives from industry peers. Whether you're looking to brainstorm new strategies\, seek advice\, or simply connect with like-minded individuals\, our event promises to be both inspiring and productive.\n\n\n\nDon't miss out on this chance to energize your professional journey and make valuable connections in a relaxed and welcoming environment.
X-ALT-DESC;FMTTYPE=text/html:<span style="font-size:14px\;"><span style="color:#0000FF\;">Connect Over Coffee at Disability Advocates</span><br />\n<br />\nJoin us for our monthly &quot\;Connect Over Coffee&quot\; networking event\, where professionals from diverse fields come together to share ideas\, forge new connections\, and explore collaborative opportunities. This casual yet impactful gathering provides the perfect setting to engage in meaningful conversations over a cup of coffee\, expand your network\, and gain fresh perspectives from industry peers. Whether you&rsquo\;re looking to brainstorm new strategies\, seek advice\, or simply connect with like-minded individuals\, our event promises to be both inspiring and productive.<br />\n<br />\nDon&rsquo\;t miss out on this chance to energize your professional journey and make valuable connections in a relaxed and welcoming environment.</span><br />\n<br />\n&nbsp\;
LOCATION:Disability Advocates
UID:e.269.13869
SEQUENCE:3
DTSTAMP:20260425T125758Z
URL:https://business.southkent.org/events/details/connect-over-coffee-05-13-2026-13869
END:VEVENT

END:VCALENDAR
