BEGIN:VCALENDAR
VERSION:2.0
PRODID:-//ChamberMaster//Event Calendar 2.0//EN
METHOD:PUBLISH
X-PUBLISHED-TTL:P3D
REFRESH-INTERVAL:P3D
CALSCALE:GREGORIAN
BEGIN:VEVENT
DTSTART:20210930T220000Z
DTEND:20211001T003000Z
X-MICROSOFT-CDO-ALLDAYEVENT:FALSE
SUMMARY:Candidate Forums
DESCRIPTION:Government Matters\n\nCandidate Forums\n\n\n\nMasks Recommended
X-ALT-DESC;FMTTYPE=text/html:Government Matters<br />\nCandidate Forums<br />\n<br />\nMasks Recommended&nbsp\;
LOCATION:Kentwood Library 4950 Breton Rd. SE Kentwood\, Mi.
UID:e.269.12141
SEQUENCE:3
DTSTAMP:20260421T195128Z
URL:https://business.southkent.org/events/details/candidate-forums-12141
END:VEVENT

END:VCALENDAR
