BEGIN:VCALENDAR
VERSION:2.0
PRODID:-//ChamberMaster//Event Calendar 2.0//EN
METHOD:PUBLISH
X-PUBLISHED-TTL:P3D
REFRESH-INTERVAL:P3D
CALSCALE:GREGORIAN
BEGIN:VEVENT
DTSTART:20260320T153000Z
DTEND:20260320T170000Z
X-MICROSOFT-CDO-ALLDAYEVENT:FALSE
SUMMARY:3rd Friday Networking Luncheon South Kent Chamber
DESCRIPTION:Looking for a place to meet and network with business owners and professionals?\n\n\n\nWhere else can you exchange dozens of business cards in one place?    \n\nJoin the South Kent Chamber of Commerce for an afternoon of networking! Bring plenty of business cards and prepare to meet others looking to network and talk business in a warm and welcoming setting.\n\n\n\nNote: Online registration ends 24 Hours before event.  If you can't register online\, call our office for assistance.  We can't guarantee placement for last minute registrants\, but we will do all we can to get access for all who want to attend\n\n \n\n \n\n\n	\n		\n			\n			Lunch Admission\n			\n			\n			$30/Members\n			\n			\n			 $40/Non-Members\n			\n		\n		\n			\n			Literature on Tables\n			\n			\n			$45 per time\n			\n			\n			Includes lunch\n			\n		\n		\n			\n			Showcase Table\n			\n			\n			$80 per time\n			\n			\n			Includes lunch\n\n			 \n			\n		\n	\n\n\nPlease contact us if you would like any food or physical accommodation
X-ALT-DESC;FMTTYPE=text/html:<p style="text-align: center\;"><span style="font-family:verdana\;"><span style="font-weight: bold\; font-size: 20px\;">Looking for a place to meet and network with business owners and professionals?</span><br />\n<br />\n<strong><span style="font-weight: bold\; font-size: 20px\;">Where else can you exchange dozens of business cards in one place?&nbsp\; &nbsp\;&nbsp\;</span></strong></span></p>\n\n<p data-end="650" data-start="336" style="text-align: center\;"><span style="font-size:16px\;"><span style="font-family:verdana\;"><strong>Join the South Kent Chamber of Commerce for an<strong data-end="423" data-start="382">&nbsp\;</strong><strong data-end="423" data-start="382">afternoon of networking</strong>! Bring plenty of business cards and prepare to meet others looking to network and&nbsp\;talk business in a warm and welcoming setting.</strong></span></span><br />\n<br />\n<strong>Note: Online registration ends 24 Hours before event.&nbsp\; If you can&rsquo\;t register online\, call our office for assistance.&nbsp\; We can&rsquo\;t guarantee placement for last minute registrants\, but we will do all we can to get access for all who want to attend</strong></p>\n\n<div>&nbsp\;</div>\n\n<div>&nbsp\;</div>\n\n<table border="1" cellpadding="0" cellspacing="1" class="x_MsoNormalTable" color:="" helvetica="" segoe="" style="font-variant-numeric: inherit\; font-variant-east-asian: inherit\; font-stretch: inherit\; font-size: 15px\; line-height: inherit\; font-family: " ui="" web="" west="" width="500" width:="">\n	<tbody>\n		<tr>\n			<td style="padding: 0.75pt\;">\n			<p class="x_MsoNormal" style="margin-top: 0in\; margin-right: 0in\; margin-bottom: 0in\; font-size: 11pt\; font-family: Calibri\, sans-serif\;"><span style="border: 0px\; font-style: inherit\; font-variant: inherit\; font-weight: inherit\; font-stretch: inherit\; font-size: 15pt\; line-height: inherit\; font-family: Arial\, sans-serif\; margin: 0px\; padding: 0px\; vertical-align: baseline\; color: rgb(51\, 51\, 51) !important\;">Lunch Admission</span></p>\n			</td>\n			<td style="padding: 0.75pt\;">\n			<p class="x_MsoNormal" style="margin-top: 0in\; margin-right: 0in\; margin-bottom: 0in\; font-size: 11pt\; font-family: Calibri\, sans-serif\;"><span style="border: 0px\; font-style: inherit\; font-variant: inherit\; font-weight: inherit\; font-stretch: inherit\; font-size: 15pt\; line-height: inherit\; font-family: Arial\, sans-serif\; margin: 0px\; padding: 0px\; vertical-align: baseline\; color: rgb(51\, 51\, 51) !important\;">$30/Members</span></p>\n			</td>\n			<td style="padding: 0.75pt\;">\n			<p class="x_MsoNormal" style="margin-top: 0in\; margin-right: 0in\; margin-bottom: 0in\; font-size: 11pt\; font-family: Calibri\, sans-serif\;"><span style="border: 0px\; font-style: inherit\; font-variant: inherit\; font-weight: inherit\; font-stretch: inherit\; font-size: 15pt\; line-height: inherit\; font-family: Arial\, sans-serif\; margin: 0px\; padding: 0px\; vertical-align: baseline\; color: rgb(51\, 51\, 51) !important\;">&nbsp\;$40/Non-Members</span></p>\n			</td>\n		</tr>\n		<tr>\n			<td style="padding: 0.75pt\;">\n			<p class="x_MsoNormal" style="margin-top: 0in\; margin-right: 0in\; margin-bottom: 0in\; font-size: 11pt\; font-family: Calibri\, sans-serif\;"><span style="border: 0px\; font-style: inherit\; font-variant: inherit\; font-weight: inherit\; font-stretch: inherit\; font-size: 15pt\; line-height: inherit\; font-family: Arial\, sans-serif\; margin: 0px\; padding: 0px\; vertical-align: baseline\; color: rgb(51\, 51\, 51) !important\;">Literature on Tables</span></p>\n			</td>\n			<td style="padding: 0.75pt\;">\n			<p class="x_MsoNormal" style="margin-top: 0in\; margin-right: 0in\; margin-bottom: 0in\; font-size: 11pt\; font-family: Calibri\, sans-serif\;"><span style="border: 0px\; font-style: inherit\; font-variant: inherit\; font-weight: inherit\; font-stretch: inherit\; font-size: 15pt\; line-height: inherit\; font-family: Arial\, sans-serif\; margin: 0px\; padding: 0px\; vertical-align: baseline\; color: rgb(51\, 51\, 51) !important\;">$45&nbsp\;per time</span></p>\n			</td>\n			<td style="padding: 0.75pt\; text-align: center\;">\n			<div style="text-align: left\;">Includes lunch</div>\n			</td>\n		</tr>\n		<tr>\n			<td style="padding: 0.75pt\;">\n			<p class="x_MsoNormal" style="margin-top: 0in\; margin-right: 0in\; margin-bottom: 0in\; font-size: 11pt\; font-family: Calibri\, sans-serif\;"><span style="border: 0px\; font-style: inherit\; font-variant: inherit\; font-weight: inherit\; font-stretch: inherit\; font-size: 15pt\; line-height: inherit\; font-family: Arial\, sans-serif\; margin: 0px\; padding: 0px\; vertical-align: baseline\; color: rgb(51\, 51\, 51) !important\;">Showcase Table</span></p>\n			</td>\n			<td style="padding: 0.75pt\;">\n			<p class="x_MsoNormal" style="margin-top: 0in\; margin-right: 0in\; margin-bottom: 0in\; font-size: 11pt\; font-family: Calibri\, sans-serif\;"><span style="border: 0px\; font-style: inherit\; font-variant: inherit\; font-weight: inherit\; font-stretch: inherit\; font-size: 15pt\; line-height: inherit\; font-family: Arial\, sans-serif\; margin: 0px\; padding: 0px\; vertical-align: baseline\; color: rgb(51\, 51\, 51) !important\;">$80 per time</span></p>\n			</td>\n			<td style="padding: 0.75pt\;">\n			<div>Includes lunch</div>\n\n			<div>&nbsp\;</div>\n			</td>\n		</tr>\n	</tbody>\n</table>\n\n<div><strong><span style="font-size: 14px\;"><span style="color: rgb(0\, 0\, 0)\; font-family: arial\;">Please&nbsp\;</span><a href="mailto:info@southkent.org?subject=Food%20or%20Physical%20Accommodation%20Request%20from%20July%207%20Business%20Forum" style="color: rgb(34\, 72\, 132)\; box-sizing: content-box\; text-decoration-line: none\; margin: 0px\; padding: 0px\; border-width: initial\; border-style: none\; border-color: initial\; border-image: none 100% 1 0 / 1 / 0 stretch\; outline: 0px\; font-size: 12px\; text-size-adjust: 100%\; vertical-align: baseline\; background-image: none\; background-position: initial\; background-size: initial\; background-repeat: initial\; background-attachment: initial\; background-origin: initial\; background-clip: initial\; inset: auto\; clear: none\; content: normal\; direction: inherit\; display: inline\; empty-cells: show\; float: none\; font-variant-numeric: inherit\; font-variant-east-asian: inherit\; font-variant-alternates: inherit\; font-stretch: inherit\; font-family: arial\; font-optical-sizing: inherit\; font-kerning: inherit\; font-feature-settings: inherit\; font-variation-settings: inherit\; line-height: inherit\; max-height: none\; max-width: none\; min-height: initial\; min-width: initial\; opacity: 1\; outline-offset: 0px\; overflow: visible\; position: static\; resize: none\; table-layout: auto\; text-overflow: clip\; visibility: inherit\; word-break: inherit\; overflow-wrap: break-word\; z-index: auto\; border-collapse: separate\; border-radius: 0px\; height: auto\; width: auto\; box-shadow: none\;">contact us</a><span style="color: rgb(0\, 0\, 0)\; font-family: arial\;">&nbsp\;if you would like any food or physical accommodation</span></span></strong></div>\n
LOCATION:Candied Yam at 932 Division Ave S\, Grand Rapids\, MI 49507
UID:e.269.13936
SEQUENCE:3
DTSTAMP:20260419T122432Z
URL:https://business.southkent.org/events/details/3rd-friday-networking-luncheon-south-kent-chamber-13936
END:VEVENT

END:VCALENDAR
